BEGIN:VCALENDAR
VERSION:2.0
CALSCALE:GREGORIAN
PRODID:-//Diputació de Barcelona//DibaCMS//EN
BEGIN:VEVENT
UID:5608
DTSTAMP:20260425T184457
DTSTART:20230901T000000
DTEND:20230909T000000
SUMMARY:Jornades Internacionals Folklòriques Catalunya 2023
LOCATION:
METHOD:PUBLISH
X-WR-CALNAME:calella@calella.cat
X-WR-TIMEZONE:Europe/Madrid
DESCRIPTION:Consulta tota la programació de les 51es Jornades Internacionals Folklòriques de Catalunya Calella aquí!

URI:https://www.calella.cat/actualitat/agenda/jornades-internacionals-folkloriques-catalunya-2023.html
CLASS:PUBLIC
END:VEVENT
END:VCALENDAR
