BEGIN:VCALENDAR
VERSION:2.0
CALSCALE:GREGORIAN
PRODID:-//Diputació de Barcelona//DibaCMS//EN
BEGIN:VEVENT
UID:5606
DTSTAMP:20260422T103248
DTSTART:20230903T193000
DTEND:20230903T213000
SUMMARY:Audició de sardanes amb la cobla Reus Jove
LOCATION:c. Anselm Clavé, s/n 08370 Calella
METHOD:PUBLISH
X-WR-CALNAME:calella@calella.cat
X-WR-TIMEZONE:Europe/Madrid
DESCRIPTION:Audició de sardanes a càrrec de la cobla Reus Jove. Organitza l'Agrupació Sardanista de Calella. 

URI:https://www.calella.cat/actualitat/agenda/audicio-de-sardanes-amb-la-cobla-reus-jove.html
CLASS:PUBLIC
END:VEVENT
END:VCALENDAR
