BEGIN:VCALENDAR
VERSION:2.0
CALSCALE:GREGORIAN
PRODID:-//Diputació de Barcelona//DibaCMS//EN
BEGIN:VEVENT
UID:5602
DTSTAMP:20260425T141756
DTSTART:20230903T080000
DTEND:20230903T200000
SUMMARY:Jornada de portes obertes als Museus de Calella
LOCATION:
METHOD:PUBLISH
X-WR-CALNAME:calella@calella.cat
X-WR-TIMEZONE:Europe/Madrid
DESCRIPTION:Durant tot el dia, als Museus de Calella, “Descobreix els Museus de Calella. Jornada de portes obertes”. Consulta els horaris de visita als equipaments museístics a https://www.calella.cat/temes/museus. Organitza: Ajuntament de Calella. 

URI:https://www.calella.cat/actualitat/agenda/jornada-de-portes-obertes-als-museus-de-calella.html
CLASS:PUBLIC
END:VEVENT
END:VCALENDAR
