BEGIN:VCALENDAR
VERSION:2.0
CALSCALE:GREGORIAN
PRODID:-//Diputació de Barcelona//DibaCMS//EN
BEGIN:VEVENT
UID:5597
DTSTAMP:20260425T200833
DTSTART:20230901T220000
DTEND:20230901T235500
SUMMARY:Ramon Miravet en concert
LOCATION:Carretera Nacional II, km. 666 08370 Calella
METHOD:PUBLISH
X-WR-CALNAME:calella@calella.cat
X-WR-TIMEZONE:Europe/Madrid
DESCRIPTION:Concert de Ramon Miravet dins la programació del NEC. Entrades exhaurides. 

Transport públic gratuït i servei de bar. En cas de pluja es farà a la Fàbrica Llobet Guri. Organitza Associació catalana per promoure a joves artistes i músics en l’àmbit cultural. 

URI:https://www.calella.cat/actualitat/agenda/ramon-miravet-en-concert.html
CLASS:PUBLIC
END:VEVENT
END:VCALENDAR
