BEGIN:VCALENDAR
VERSION:2.0
CALSCALE:GREGORIAN
PRODID:-//Diputació de Barcelona//DibaCMS//EN
BEGIN:VEVENT
UID:5596
DTSTAMP:20260425T123802
DTSTART:20230901T200000
DTEND:20230901T220000
SUMMARY:Gran cercavila de les JIF 2023 i Espectacle Inaugural
LOCATION:Riera Capaspre 
METHOD:PUBLISH
X-WR-CALNAME:calella@calella.cat
X-WR-TIMEZONE:Europe/Madrid
DESCRIPTION:La cercavila començarà a partir de la Riera Capaspre a les 20 h i seguirà fins al passeig de Mar. Amb el Capgròs Folk, els Geganters i Grallers de Calella, l’Esbart Som Riu d’Or de Sant Fruitós de Bages, la cobla Lluïsos de Taradell i els Grups Internacionals d’Eslovàquia, Argentina i Turquia. 

Recorregut: Riera Capaspre – Jovara – Escoles Pies – plaça de l’Ajuntament – Bisbe Sivilla – Església – Sant Pere – Anselm Clavé – Passeig de Mar. Organitza: Adifolk.

A les 21 h, hi haurà l'espectacle inaugural de les 51es JIF 2023 al passeig de mar. Organitza: Adifolk. Gratuït!

 

URI:https://www.calella.cat/actualitat/agenda/gran-cercavila-de-les-jif-2023-i-espectacle-inaugural.html
CLASS:PUBLIC
END:VEVENT
END:VCALENDAR
