BEGIN:VCALENDAR
VERSION:2.0
CALSCALE:GREGORIAN
PRODID:-//Diputació de Barcelona//DibaCMS//EN
BEGIN:VEVENT
UID:5595
DTSTAMP:20260425T123303
DTSTART:20230901T170000
DTEND:20230901T200000
SUMMARY:Tardes creatives de Calella Artesana
LOCATION:Plaça Catalunya 08370 Calella
METHOD:PUBLISH
X-WR-CALNAME:calella@calella.cat
X-WR-TIMEZONE:Europe/Madrid
DESCRIPTION:Organitza: Associació Calella Artesana. Gratuït!
 

URI:https://www.calella.cat/actualitat/agenda/tardes-creatives-de-calella-artesana.html
CLASS:PUBLIC
END:VEVENT
END:VCALENDAR
