BEGIN:VCALENDAR
VERSION:2.0
CALSCALE:GREGORIAN
PRODID:-//Diputació de Barcelona//DibaCMS//EN
BEGIN:VEVENT
UID:5593
DTSTAMP:20260425T123151
DTSTART:20230831T220000
DTEND:20230831T220000
SUMMARY:Projecció de la pel·lícula d'animació “Tadeo Jones 3”
LOCATION:Platja Gran 08370 Calella
METHOD:PUBLISH
X-WR-CALNAME:calella@calella.cat
X-WR-TIMEZONE:Europe/Madrid
DESCRIPTION:Dins de la Programació del Calella Film Festival: el cinema a la fresca de Calella amb la pel·lícula Tadeo Jones 3. Versió en català. Animació. Aventures. Gratuït. Organitza: Calella Film Festival i Ajuntament de Calella. Col·labora: Xiri9.

En cas de pluja, la pel·lícula es projectarà a la Sala Mozart.

URI:https://www.calella.cat/actualitat/agenda/projeccio-de-la-pellicula-danimacio-tadeo-jones-3.html
CLASS:PUBLIC
END:VEVENT
END:VCALENDAR
