BEGIN:VCALENDAR
VERSION:2.0
CALSCALE:GREGORIAN
PRODID:-//Diputació de Barcelona//DibaCMS//EN
BEGIN:VEVENT
UID:5571
DTSTAMP:20260425T165744
DTSTART:20230817T190000
DTEND:20230817T210000
SUMMARY:Let's Swing Calella!
LOCATION:Plaça de l'Església 08370 Calella
METHOD:PUBLISH
X-WR-CALNAME:calella@calella.cat
X-WR-TIMEZONE:Europe/Madrid
DESCRIPTION:Cada dijous al vespre la plaça de l'Església es torna una pista de ball per bellugar-se a ritme de swing i lindy hop

URI:https://www.calella.cat/actualitat/agenda/5571-lets-swing-calella.html
CLASS:PUBLIC
END:VEVENT
END:VCALENDAR
