BEGIN:VCALENDAR
VERSION:2.0
CALSCALE:GREGORIAN
PRODID:-//Diputació de Barcelona//DibaCMS//EN
BEGIN:VEVENT
UID:5535
DTSTAMP:20260425T044347
DTSTART:20230622T180000
DTEND:20230723T210000
SUMMARY:Exposició temporal Complicitats de Lluc Queralt
LOCATION:Plaça de l'Ajuntament, 1-3 08370 Calella
METHOD:PUBLISH
X-WR-CALNAME:calella@calella.cat
X-WR-TIMEZONE:Europe/Madrid
DESCRIPTION:No et perdis l'exposició 'Complicitats' a la Sala d'Exposicions de l'Ajuntament Vell!

URI:https://www.calella.cat/actualitat/agenda/exposicio-temporal-complicitats-de-lluc-queralt.html
CLASS:PUBLIC
END:VEVENT
END:VCALENDAR
