BEGIN:VCALENDAR
VERSION:2.0
CALSCALE:GREGORIAN
PRODID:-//Diputació de Barcelona//DibaCMS//EN
BEGIN:VEVENT
UID:5512
DTSTAMP:20260425T031152
DTSTART:20230615T160000
DTEND:20230615T160000
SUMMARY:assessoria presencial de mobilitat internacional
LOCATION:c. Sant Jaume, 225-229 08370 Calella
METHOD:PUBLISH
X-WR-CALNAME:calella@calella.cat
X-WR-TIMEZONE:Europe/Madrid
DESCRIPTION:Espai on s’informa de forma personalitzada de qualsevol tema relacionat amb la mobilitat internacional:

URI:https://www.calella.cat/actualitat/agenda/5512-assessoria-presencial-de-mobilitat-internacional.html
CLASS:PUBLIC
END:VEVENT
END:VCALENDAR
