BEGIN:VCALENDAR
VERSION:2.0
CALSCALE:GREGORIAN
PRODID:-//Diputació de Barcelona//DibaCMS//EN
BEGIN:VEVENT
UID:5509
DTSTAMP:20260425T060919
DTSTART:20230614T000000
DTEND:20230614T000000
SUMMARY:Conferència "L’Oda a Espanya de Joan Maragall, la clau d’un segle"
LOCATION:c. Església, 91 08370 Calella
METHOD:PUBLISH
X-WR-CALNAME:calella@calella.cat
X-WR-TIMEZONE:Europe/Madrid
DESCRIPTION:Conferència: L’Oda a Espanya de Joan Maragall, la clau d’un segle, a càrrec de Vicenç Villatoro, escriptor i periodista

URI:https://www.calella.cat/actualitat/agenda/conferencia-loda-a-espanya-de-joan-maragall-la-clau-dun-segle.html
CLASS:PUBLIC
END:VEVENT
END:VCALENDAR
