BEGIN:VCALENDAR
VERSION:2.0
CALSCALE:GREGORIAN
PRODID:-//Diputació de Barcelona//DibaCMS//EN
BEGIN:VEVENT
UID:5500
DTSTAMP:20260425T133916
DTSTART:20230617T100000
DTEND:20230617T100000
SUMMARY:Tabalada infantil
LOCATION:Inici des de la plaça de l'Església fins al passeig Manuel Puigvert (davant del Monument de la Sardana). 
METHOD:PUBLISH
X-WR-CALNAME:calella@calella.cat
X-WR-TIMEZONE:Europe/Madrid
DESCRIPTION:Vine a la tabalada infantil dels Udols de foc! 

 

URI:https://www.calella.cat/actualitat/agenda/tabalada-infantil.html
CLASS:PUBLIC
END:VEVENT
END:VCALENDAR
