BEGIN:VCALENDAR
VERSION:2.0
CALSCALE:GREGORIAN
PRODID:-//Diputació de Barcelona//DibaCMS//EN
BEGIN:VEVENT
UID:5499
DTSTAMP:20260425T062717
DTSTART:20230628T160000
DTEND:20230628T190000
SUMMARY:RULA - Servei d'orientació, informació i acompanyament dels usos de drogues i pantalles
LOCATION:c. Sant Jaume, 225-229 08370 Calella
METHOD:PUBLISH
X-WR-CALNAME:calella@calella.cat
X-WR-TIMEZONE:Europe/Madrid
DESCRIPTION:[Cal inscripció prèvia] Servei d'orientació, informació i acompanyament dels usos de drogues i pantalles adreçat a adolescents, joves, famílies i professionals.

URI:https://www.calella.cat/actualitat/agenda/5499-rula-servei-dorientacio-informacio-i-acompanyament-dels-usos-de-drogues-i-pantalles.html
CLASS:PUBLIC
END:VEVENT
END:VCALENDAR
