BEGIN:VCALENDAR
VERSION:2.0
CALSCALE:GREGORIAN
PRODID:-//Diputació de Barcelona//DibaCMS//EN
BEGIN:VEVENT
UID:5470
DTSTAMP:20260425T043456
DTSTART:20230604T140000
DTEND:20230604T140000
SUMMARY:Arrossada popular
LOCATION:c. Anselm Clavé, s/n 08370 Calella
METHOD:PUBLISH
X-WR-CALNAME:calella@calella.cat
X-WR-TIMEZONE:Europe/Madrid
DESCRIPTION:Arrossada popular organitzada per l’Associació Sant Quirze, al passeig de Manuel Puigvert.

URI:https://www.calella.cat/actualitat/agenda/arrossada-popular.html
CLASS:PUBLIC
END:VEVENT
END:VCALENDAR
