BEGIN:VCALENDAR
VERSION:2.0
CALSCALE:GREGORIAN
PRODID:-//Diputació de Barcelona//DibaCMS//EN
BEGIN:VEVENT
UID:5469
DTSTAMP:20260425T165611
DTSTART:20230604T100000
DTEND:20230604T140000
SUMMARY:Trobada d’intercanvi i col·leccionisme
LOCATION:
METHOD:PUBLISH
X-WR-CALNAME:calella@calella.cat
X-WR-TIMEZONE:Europe/Madrid
DESCRIPTION:Trobada d’intercanvi i col·leccionisme, al Passeig Manuel Puigvert. Organitza: Associació Roca Grossa.

URI:https://www.calella.cat/actualitat/agenda/5469-trobada-dintercanvi-i-colleccionisme.html
CLASS:PUBLIC
END:VEVENT
END:VCALENDAR
