BEGIN:VCALENDAR
VERSION:2.0
CALSCALE:GREGORIAN
PRODID:-//Diputació de Barcelona//DibaCMS//EN
BEGIN:VEVENT
UID:5465
DTSTAMP:20260425T063004
DTSTART:20230610T200000
DTEND:20230610T200000
SUMMARY:Concert de l'Screamin festival
LOCATION:c. Sant Pere, 152 08370 Calella
METHOD:PUBLISH
X-WR-CALNAME:calella@calella.cat
X-WR-TIMEZONE:Europe/Madrid
DESCRIPTION:
URI:https://www.calella.cat/actualitat/agenda/concert-de-lscreamin-festival.html
CLASS:PUBLIC
END:VEVENT
END:VCALENDAR
