BEGIN:VCALENDAR
VERSION:2.0
CALSCALE:GREGORIAN
PRODID:-//Diputació de Barcelona//DibaCMS//EN
BEGIN:VEVENT
UID:5464
DTSTAMP:20260425T060812
DTSTART:20230610T110000
DTEND:20230610T110000
SUMMARY:Car & Bike show de l'Screamin festival
LOCATION:c. Anselm Clavé, s/n 08370 Calella
METHOD:PUBLISH
X-WR-CALNAME:calella@calella.cat
X-WR-TIMEZONE:Europe/Madrid
DESCRIPTION:
URI:https://www.calella.cat/actualitat/agenda/car-and-bike-show-de-lscreamin-festival.html
CLASS:PUBLIC
END:VEVENT
END:VCALENDAR
