BEGIN:VCALENDAR
VERSION:2.0
CALSCALE:GREGORIAN
PRODID:-//Diputació de Barcelona//DibaCMS//EN
BEGIN:VEVENT
UID:5446
DTSTAMP:20260425T184619
DTSTART:20230525T210000
DTEND:20230525T210000
SUMMARY:Cicle Gaudí amb la pel·lícula VASIL
LOCATION:c. Església, 91 08370 Calella
METHOD:PUBLISH
X-WR-CALNAME:calella@calella.cat
X-WR-TIMEZONE:Europe/Madrid
DESCRIPTION:Cicle Gaudí amb la pel·lícula VASIL. Apte per a tots els públics. Entrada: 4’5 €, 2x1 La Vanguardia, 3 € Carnet Jove i 3’5 jubilats.

URI:https://www.calella.cat/actualitat/agenda/cicle-gaudi-amb-la-pellicula-vasil.html
CLASS:PUBLIC
END:VEVENT
END:VCALENDAR
