BEGIN:VCALENDAR
VERSION:2.0
CALSCALE:GREGORIAN
PRODID:-//Diputació de Barcelona//DibaCMS//EN
BEGIN:VEVENT
UID:5436
DTSTAMP:20260425T042425
DTSTART:20230510T180000
DTEND:20230510T180000
SUMMARY:Hora del conte
LOCATION:Plaça de l'Ajuntament, 31 08370 Calella
METHOD:PUBLISH
X-WR-CALNAME:calella@calella.cat
X-WR-TIMEZONE:Europe/Madrid
DESCRIPTION:Hora del conte "Històries principesques"

URI:https://www.calella.cat/actualitat/agenda/5436-hora-del-conte.html
CLASS:PUBLIC
END:VEVENT
END:VCALENDAR
