BEGIN:VCALENDAR
VERSION:2.0
CALSCALE:GREGORIAN
PRODID:-//Diputació de Barcelona//DibaCMS//EN
BEGIN:VEVENT
UID:5435
DTSTAMP:20260425T031844
DTSTART:20230513T100000
DTEND:20230513T220000
SUMMARY:La botiga al carrer està de moda
LOCATION:
METHOD:PUBLISH
X-WR-CALNAME:calella@calella.cat
X-WR-TIMEZONE:Europe/Madrid
DESCRIPTION:
URI:https://www.calella.cat/actualitat/agenda/la-botiga-al-carrer-esta-de-moda.html
CLASS:PUBLIC
END:VEVENT
END:VCALENDAR
