BEGIN:VCALENDAR
VERSION:2.0
CALSCALE:GREGORIAN
PRODID:-//Diputació de Barcelona//DibaCMS//EN
BEGIN:VEVENT
UID:5433
DTSTAMP:20260425T013902
DTSTART:20230521T183000
DTEND:20230521T183000
SUMMARY:Obre de tearte: Bojos pel Bisturí
LOCATION:c. Església, 249-251 08370 Calella
METHOD:PUBLISH
X-WR-CALNAME:calella@calella.cat
X-WR-TIMEZONE:Europe/Madrid
DESCRIPTION:Estrena d’una comèdia sobre una colla de metges, infermeres, pacients i família, que durant les festes de Nadal, es comencen a embolicar en un trepidant rosari de mal entesos, mentides, encobriments i enganys.

URI:https://www.calella.cat/actualitat/agenda/5433-obre-de-tearte-bojos-pel-bisturi.html
CLASS:PUBLIC
END:VEVENT
END:VCALENDAR
