BEGIN:VCALENDAR
VERSION:2.0
CALSCALE:GREGORIAN
PRODID:-//Diputació de Barcelona//DibaCMS//EN
BEGIN:VEVENT
UID:5423
DTSTAMP:20260425T014113
DTSTART:20230516T000000
DTEND:20230527T000000
SUMMARY:Exposició Dones trencant barreres. Transformant les cuitats mediterrànies
LOCATION:
METHOD:PUBLISH
X-WR-CALNAME:calella@calella.cat
X-WR-TIMEZONE:Europe/Madrid
DESCRIPTION:
URI:https://www.calella.cat/actualitat/agenda/exposicio-dones-trencant-barreres-transformant-les-cuitats-mediterranies.html
CLASS:PUBLIC
END:VEVENT
END:VCALENDAR
