BEGIN:VCALENDAR
VERSION:2.0
CALSCALE:GREGORIAN
PRODID:-//Diputació de Barcelona//DibaCMS//EN
BEGIN:VEVENT
UID:5422
DTSTAMP:20260425T014324
DTSTART:20230503T000000
DTEND:20230515T000000
SUMMARY:Exposició Drawing 4 Equality. Desafiant els rols de gènere a les dues ribes de la Mediterrània 
LOCATION:Plaça de l'Ajuntament, 31 08370 Calella
METHOD:PUBLISH
X-WR-CALNAME:calella@calella.cat
X-WR-TIMEZONE:Europe/Madrid
DESCRIPTION:Dins la campanya #DonesQueTransformen. 

URI:https://www.calella.cat/actualitat/agenda/exposicio-drawing-4-equality-desafiant-els-rols-de-genere-a-les-dues-ribes-de-la-mediterrania-.html
CLASS:PUBLIC
END:VEVENT
END:VCALENDAR
