BEGIN:VCALENDAR
VERSION:2.0
CALSCALE:GREGORIAN
PRODID:-//Diputació de Barcelona//DibaCMS//EN
BEGIN:VEVENT
UID:5411
DTSTAMP:20260425T044314
DTSTART:20230506T100000
DTEND:20230507T220000
SUMMARY:Fira renaixentista
LOCATION:Plaça de l'Ajuntament 08370 Calella
METHOD:PUBLISH
X-WR-CALNAME:calella@calella.cat
X-WR-TIMEZONE:Europe/Madrid
DESCRIPTION:Calella torna a reviure el passat renaixentista amb un cap de setmana ple d'activitats per a totes les edats!

URI:https://www.calella.cat/actualitat/agenda/5411-fira-renaixentista.html
CLASS:PUBLIC
END:VEVENT
END:VCALENDAR
