BEGIN:VCALENDAR
VERSION:2.0
CALSCALE:GREGORIAN
PRODID:-//Diputació de Barcelona//DibaCMS//EN
BEGIN:VEVENT
UID:5403
DTSTAMP:20260425T042329
DTSTART:20230422T100000
DTEND:20230422T203000
SUMMARY:Mercat solidari de 2a mà
LOCATION:Plaça de l'Església 08370 Calella
METHOD:PUBLISH
X-WR-CALNAME:calella@calella.cat
X-WR-TIMEZONE:Europe/Madrid
DESCRIPTION:
URI:https://www.calella.cat/actualitat/agenda/mercat-solidari-de-2a-ma.html
CLASS:PUBLIC
END:VEVENT
END:VCALENDAR
