BEGIN:VCALENDAR
VERSION:2.0
CALSCALE:GREGORIAN
PRODID:-//Diputació de Barcelona//DibaCMS//EN
BEGIN:VEVENT
UID:5402
DTSTAMP:20260420T181912
DTSTART:20230427T100000
DTEND:20230427T110000
SUMMARY:Tertúlies en català
LOCATION:Plaça de l'Ajuntament, 31 08370 Calella
METHOD:PUBLISH
X-WR-CALNAME:calella@calella.cat
X-WR-TIMEZONE:Europe/Madrid
DESCRIPTION:Tertúlies en català amb el Llibre La trena de la meva àvia, d'Alina Bronsky. Organitza l'Oficina de Catala de Calella i la Biblioteca municipal.

URI:https://www.calella.cat/actualitat/agenda/5402-tertulies-en-catala.html
CLASS:PUBLIC
END:VEVENT
END:VCALENDAR
