BEGIN:VCALENDAR
VERSION:2.0
CALSCALE:GREGORIAN
PRODID:-//Diputació de Barcelona//DibaCMS//EN
BEGIN:VEVENT
UID:5399
DTSTAMP:20260424T235620
DTSTART:20230424T160000
DTEND:20230424T200000
SUMMARY:Inici de les inscripcions al Torneig de futbol "Kids League"
LOCATION:c. Sant Jaume, 225-229 08370 Calella
METHOD:PUBLISH
X-WR-CALNAME:calella@calella.cat
X-WR-TIMEZONE:Europe/Madrid
DESCRIPTION:Inscripcions de dilluns a divendres de 16 a 20 h.

URI:https://www.calella.cat/actualitat/agenda/inici-de-les-inscripcions-al-torneig-de-futbol-kids-league.html
CLASS:PUBLIC
END:VEVENT
END:VCALENDAR
