BEGIN:VCALENDAR
VERSION:2.0
CALSCALE:GREGORIAN
PRODID:-//Diputació de Barcelona//DibaCMS//EN
BEGIN:VEVENT
UID:5378
DTSTAMP:20260425T032531
DTSTART:20230401T000000
DTEND:20230430T000000
SUMMARY:Exposició del fons de cinema
LOCATION:Plaça de l'Ajuntament, 31 08370 Calella
METHOD:PUBLISH
X-WR-CALNAME:calella@calella.cat
X-WR-TIMEZONE:Europe/Madrid
DESCRIPTION:
URI:https://www.calella.cat/actualitat/agenda/exposicio-del-fons-de-cinema.html
CLASS:PUBLIC
END:VEVENT
END:VCALENDAR
