BEGIN:VCALENDAR
VERSION:2.0
CALSCALE:GREGORIAN
PRODID:-//Diputació de Barcelona//DibaCMS//EN
BEGIN:VEVENT
UID:5370
DTSTAMP:20260425T031019
DTSTART:20230417T000000
DTEND:20230417T000000
SUMMARY:Assessoria presencial de mobilitat internacional
LOCATION:
METHOD:PUBLISH
X-WR-CALNAME:calella@calella.cat
X-WR-TIMEZONE:Europe/Madrid
DESCRIPTION:
URI:https://www.calella.cat/actualitat/agenda/5370-assessoria-presencial-de-mobilitat-internacional.html
CLASS:PUBLIC
END:VEVENT
END:VCALENDAR
