BEGIN:VCALENDAR
VERSION:2.0
CALSCALE:GREGORIAN
PRODID:-//Diputació de Barcelona//DibaCMS//EN
BEGIN:VEVENT
UID:5369
DTSTAMP:20260425T043431
DTSTART:20230419T180000
DTEND:20230419T180000
SUMMARY:Tarda de cine
LOCATION:c. Sant Jaume, 225-229 08370 Calella
METHOD:PUBLISH
X-WR-CALNAME:calella@calella.cat
X-WR-TIMEZONE:Europe/Madrid
DESCRIPTION:
URI:https://www.calella.cat/actualitat/agenda/5369-tarda-de-cine.html
CLASS:PUBLIC
END:VEVENT
END:VCALENDAR
