BEGIN:VCALENDAR
VERSION:2.0
CALSCALE:GREGORIAN
PRODID:-//Diputació de Barcelona//DibaCMS//EN
BEGIN:VEVENT
UID:5358
DTSTAMP:20260422T175445
DTSTART:20230501T093000
DTEND:20230501T093000
SUMMARY:Taitxí
LOCATION:Parc Dalmau 08370 Calella
METHOD:PUBLISH
X-WR-CALNAME:calella@calella.cat
X-WR-TIMEZONE:Europe/Madrid
DESCRIPTION:
URI:https://www.calella.cat/actualitat/agenda/5358-taitxi.html
CLASS:PUBLIC
END:VEVENT
END:VCALENDAR
