BEGIN:VCALENDAR
VERSION:2.0
CALSCALE:GREGORIAN
PRODID:-//Diputació de Barcelona//DibaCMS//EN
BEGIN:VEVENT
UID:5324
DTSTAMP:20260425T215357
DTSTART:20230402T120000
DTEND:20230402T130000
SUMMARY:Visita guiada al Museu del Turisme
LOCATION:c. Sant Pere, 122-140 08370 Calella
METHOD:PUBLISH
X-WR-CALNAME:calella@calella.cat
X-WR-TIMEZONE:Europe/Madrid
DESCRIPTION:No et perdis la visita guiada al Museu del Turisme, el proper diumenge 2 d'abril a les 12 hores!

URI:https://www.calella.cat/actualitat/agenda/visita-guiada-al-museu-del-turisme.html
CLASS:PUBLIC
END:VEVENT
END:VCALENDAR
