BEGIN:VCALENDAR
VERSION:2.0
CALSCALE:GREGORIAN
PRODID:-//Diputació de Barcelona//DibaCMS//EN
BEGIN:VEVENT
UID:5310
DTSTAMP:20260424T204339
DTSTART:20230314T183000
DTEND:20230314T183000
SUMMARY:Presentació del Servei d'Atenció a la Dona
LOCATION:
METHOD:PUBLISH
X-WR-CALNAME:calella@calella.cat
X-WR-TIMEZONE:Europe/Madrid
DESCRIPTION:
URI:https://www.calella.cat/actualitat/agenda/presentacio-del-servei-datencio-a-la-dona.html
CLASS:PUBLIC
END:VEVENT
END:VCALENDAR
