BEGIN:VCALENDAR
VERSION:2.0
CALSCALE:GREGORIAN
PRODID:-//Diputació de Barcelona//DibaCMS//EN
BEGIN:VEVENT
UID:5292
DTSTAMP:20260425T014550
DTSTART:20230303T000000
DTEND:20230423T000000
SUMMARY:Exposició temporal “L'escola llum de llibertat
LOCATION:c. Escoles Pies, 36 08370 Calella
METHOD:PUBLISH
X-WR-CALNAME:calella@calella.cat
X-WR-TIMEZONE:Europe/Madrid
DESCRIPTION:No et perdis l'exposició temporal “L'escola llum de llibertat”, del 3 de març al 23 d’abril de 2023.

URI:https://www.calella.cat/actualitat/agenda/exposicio-temporal-lescola-llum-de-llibertat.html
CLASS:PUBLIC
END:VEVENT
END:VCALENDAR
