BEGIN:VCALENDAR
VERSION:2.0
CALSCALE:GREGORIAN
PRODID:-//Diputació de Barcelona//DibaCMS//EN
BEGIN:VEVENT
UID:5291
DTSTAMP:20260425T014717
DTSTART:20230324T180000
DTEND:20230324T190000
SUMMARY:Visita comentada a l'exposició "Catalunya, un país d'enginy i innovació"
LOCATION:c. Sant Pere, 122-140 08370 Calella
METHOD:PUBLISH
X-WR-CALNAME:calella@calella.cat
X-WR-TIMEZONE:Europe/Madrid
DESCRIPTION:No et perdis la visita comentada a l'exposició "Catalunya, un país d'enginy i innovació"!

URI:https://www.calella.cat/actualitat/agenda/visita-comentada-a-lexposicio-catalunya-un-pais-denginy-i-innovacio.html
CLASS:PUBLIC
END:VEVENT
END:VCALENDAR
