BEGIN:VCALENDAR
VERSION:2.0
CALSCALE:GREGORIAN
PRODID:-//Diputació de Barcelona//DibaCMS//EN
BEGIN:VEVENT
UID:5276
DTSTAMP:20260425T014647
DTSTART:20230224T180000
DTEND:20230224T190000
SUMMARY:Visita guiada a l'exposició "El llegat indià"
LOCATION:c. Escoles Pies, 36 08370 Calella
METHOD:PUBLISH
X-WR-CALNAME:calella@calella.cat
X-WR-TIMEZONE:Europe/Madrid
DESCRIPTION:No et perdis la visita comentada a càrrec d'Anna Castellví, coordinadora de la Xarxa de Municipis Indians!

URI:https://www.calella.cat/actualitat/agenda/visita-guiada-a-lexposicio-el-llegat-india.html
CLASS:PUBLIC
END:VEVENT
END:VCALENDAR
