BEGIN:VCALENDAR
VERSION:2.0
CALSCALE:GREGORIAN
PRODID:-//Diputació de Barcelona//DibaCMS//EN
BEGIN:VEVENT
UID:5273
DTSTAMP:20260424T222003
DTSTART:20230219T000000
DTEND:20230319T000000
SUMMARY:Exposició "Calella és Solidària"
LOCATION:Plaça de l'Ajuntament, 1-4 08370 Calella
METHOD:PUBLISH
X-WR-CALNAME:calella@calella.cat
X-WR-TIMEZONE:Europe/Madrid
DESCRIPTION:No et perdis l'exposició "Calella és Solidària", la qual estarà disponible fins al 19 de març d'aquest 2023!

URI:https://www.calella.cat/actualitat/agenda/5273-exposicio-calella-es-solidaria.html
CLASS:PUBLIC
END:VEVENT
END:VCALENDAR
