BEGIN:VCALENDAR
VERSION:2.0
CALSCALE:GREGORIAN
PRODID:-//Diputació de Barcelona//DibaCMS//EN
BEGIN:VEVENT
UID:5262
DTSTAMP:20260425T013954
DTSTART:20230213T090000
DTEND:20230213T140000
SUMMARY:Jornada de formació per a persones treballadores
LOCATION:c. Sant Jaume, 225-229 08370 Calella
METHOD:PUBLISH
X-WR-CALNAME:calella@calella.cat
X-WR-TIMEZONE:Europe/Madrid
DESCRIPTION:Curs d'alfabetització digital per a la recerca de feina.

URI:https://www.calella.cat/actualitat/agenda/5262-jornada-de-formacio-per-a-persones-treballadores.html
CLASS:PUBLIC
END:VEVENT
END:VCALENDAR
