BEGIN:VCALENDAR
VERSION:2.0
CALSCALE:GREGORIAN
PRODID:-//Diputació de Barcelona//DibaCMS//EN
BEGIN:VEVENT
UID:5246
DTSTAMP:20260425T014100
DTSTART:20230207T073000
DTEND:20230207T073000
SUMMARY:Rutes pels voltants de Calella
LOCATION:Sortida des del Camp de Futbol de Mar 
METHOD:PUBLISH
X-WR-CALNAME:calella@calella.cat
X-WR-TIMEZONE:Europe/Madrid
DESCRIPTION:Organitza: Associació Calella Marxa. Per a més informació al 655 81 20 07.

URI:https://www.calella.cat/actualitat/agenda/5246-rutes-pels-voltants-de-calella.html
CLASS:PUBLIC
END:VEVENT
END:VCALENDAR
