BEGIN:VCALENDAR
VERSION:2.0
CALSCALE:GREGORIAN
PRODID:-//Diputació de Barcelona//DibaCMS//EN
BEGIN:VEVENT
UID:5240
DTSTAMP:20260424T190611
DTSTART:20230213T093000
DTEND:20230213T110000
SUMMARY:Taitxí
LOCATION:Parc Dalmau 08370 Calella
METHOD:PUBLISH
X-WR-CALNAME:calella@calella.cat
X-WR-TIMEZONE:Europe/Madrid
DESCRIPTION:Organitza: Associació Calella Marxa.  Per a més informació al 655 81 20 07.

URI:https://www.calella.cat/actualitat/agenda/5240-taitxi.html
CLASS:PUBLIC
END:VEVENT
END:VCALENDAR
