BEGIN:VCALENDAR
VERSION:2.0
CALSCALE:GREGORIAN
PRODID:-//Diputació de Barcelona//DibaCMS//EN
BEGIN:VEVENT
UID:5237
DTSTAMP:20260425T000101
DTSTART:20230128T180000
DTEND:20230128T180000
SUMMARY:Acte de lliurament dels premis FEEC - CalellaMarxa
LOCATION:c. Sant Jaume, 225-229 08370 Calella
METHOD:PUBLISH
X-WR-CALNAME:calella@calella.cat
X-WR-TIMEZONE:Europe/Madrid
DESCRIPTION:
URI:https://www.calella.cat/actualitat/agenda/acte-de-lliurament-dels-premis-feec-calellamarxa.html
CLASS:PUBLIC
END:VEVENT
END:VCALENDAR
