BEGIN:VCALENDAR
VERSION:2.0
CALSCALE:GREGORIAN
PRODID:-//Diputació de Barcelona//DibaCMS//EN
BEGIN:VEVENT
UID:5234
DTSTAMP:20260424T222414
DTSTART:20230204T113000
DTEND:20230204T113000
SUMMARY:Taller de manga per a joves Dibuixa el teu personatge de manga preferit!
LOCATION:Plaça de l'Ajuntament, 31 08370 Calella
METHOD:PUBLISH
X-WR-CALNAME:calella@calella.cat
X-WR-TIMEZONE:Europe/Madrid
DESCRIPTION:Places limitades. Cal inscripció prèvia.

 

A càrrec de Blanca Bonastre, professora del Centre d'Art Nugué i Camps de Malgrat de Mar.

URI:https://www.calella.cat/actualitat/agenda/taller-de-manga-per-a-joves-dibuixa-el-teu-personatge-de-manga-preferit.html
CLASS:PUBLIC
END:VEVENT
END:VCALENDAR
