BEGIN:VCALENDAR
VERSION:2.0
CALSCALE:GREGORIAN
PRODID:-//Diputació de Barcelona//DibaCMS//EN
BEGIN:VEVENT
UID:5232
DTSTAMP:20260424T222559
DTSTART:20230129T180000
DTEND:20230129T180000
SUMMARY:No et perdis "Gordon i Paddy", la primera pel·lícula de CineXic!
LOCATION:c. Sant Jaume, 225-229 08370 Calella
METHOD:PUBLISH
X-WR-CALNAME:calella@calella.cat
X-WR-TIMEZONE:Europe/Madrid
DESCRIPTION:A partir de 6 anys

URI:https://www.calella.cat/actualitat/agenda/no-et-perdis-gordon-i-paddy-la-primera-pellicula-de-cinexic.html
CLASS:PUBLIC
END:VEVENT
END:VCALENDAR
