BEGIN:VCALENDAR
VERSION:2.0
CALSCALE:GREGORIAN
PRODID:-//Diputació de Barcelona//DibaCMS//EN
BEGIN:VEVENT
UID:5222
DTSTAMP:20260424T174647
DTSTART:20230211T110000
DTEND:20230212T200000
SUMMARY:2n Saló del manga de Calella
LOCATION:c. Sant Pere, 152 08370 Calella
METHOD:PUBLISH
X-WR-CALNAME:calella@calella.cat
X-WR-TIMEZONE:Europe/Madrid
DESCRIPTION:
URI:https://www.calella.cat/actualitat/agenda/2n-salo-del-manga-de-calella.html
CLASS:PUBLIC
END:VEVENT
END:VCALENDAR
