BEGIN:VCALENDAR
VERSION:2.0
CALSCALE:GREGORIAN
PRODID:-//Diputació de Barcelona//DibaCMS//EN
BEGIN:VEVENT
UID:5213
DTSTAMP:20260425T014253
DTSTART:20230118T183000
DTEND:20230118T183000
SUMMARY:Conferència: Aprenentatges difícils en temps convulsos
LOCATION:c. Església, 91 08370 Calella
METHOD:PUBLISH
X-WR-CALNAME:calella@calella.cat
X-WR-TIMEZONE:Europe/Madrid
DESCRIPTION:A càrrec de Francesc Torralba, catedràtic de Filosofia de la Universitat Ramon Llull. Organitza Aula d’Extensió Universitària de Calella.  Informació www.aulacalella.cat  937 692 467.

URI:https://www.calella.cat/actualitat/agenda/conferencia-aprenentatges-dificils-en-temps-convulsos.html
CLASS:PUBLIC
END:VEVENT
END:VCALENDAR
