BEGIN:VCALENDAR
VERSION:2.0
CALSCALE:GREGORIAN
PRODID:-//Diputació de Barcelona//DibaCMS//EN
BEGIN:VEVENT
UID:5212
DTSTAMP:20260424T173943
DTSTART:20230111T183000
DTEND:20230111T183000
SUMMARY:Conferència: El Messies, de Georg Friedrich Händel
LOCATION:c. Església, 91 08370 Calella
METHOD:PUBLISH
X-WR-CALNAME:calella@calella.cat
X-WR-TIMEZONE:Europe/Madrid
DESCRIPTION:A càrrec de Joan Vives, professor d’història de la música a l’Escola Superior de Cinema i Audiovisual  de Catalunya (ESCAC). Organitza Aula d’Extensió Universitària de Calella. Més informació a www.aulacalella.cat  937 692 467.

URI:https://www.calella.cat/actualitat/agenda/conferencia-el-messies-de-georg-friedrich-handel.html
CLASS:PUBLIC
END:VEVENT
END:VCALENDAR
