BEGIN:VCALENDAR
VERSION:2.0
CALSCALE:GREGORIAN
PRODID:-//Diputació de Barcelona//DibaCMS//EN
BEGIN:VEVENT
UID:5209
DTSTAMP:20260424T173918
DTSTART:20230108T180000
DTEND:20230108T180000
SUMMARY:Representació de "Pastorets: Jesús i coming", a càrrec de Joventut Artística
LOCATION:c. Església, 249-251 08370 Calella
METHOD:PUBLISH
X-WR-CALNAME:calella@calella.cat
X-WR-TIMEZONE:Europe/Madrid
DESCRIPTION:Venda d’entrades: a la pàgina web de www.joventutartistica.com, a taquilla els dies 22 i 29 de desembre i 5 de gener de 18.00 a 20.00 h i els dies 8 i 15 de gener de 13.00 a 14.00 h, i 45 minuts abans de cada representació.

URI:https://www.calella.cat/actualitat/agenda/5209-representacio-de-pastorets-jesus-i-coming-a-carrec-de-joventut-artistica.html
CLASS:PUBLIC
END:VEVENT
END:VCALENDAR
