BEGIN:VCALENDAR
VERSION:2.0
CALSCALE:GREGORIAN
PRODID:-//Diputació de Barcelona//DibaCMS//EN
BEGIN:VEVENT
UID:5206
DTSTAMP:20260425T013728
DTSTART:20230103T180000
DTEND:20230103T180000
SUMMARY:Taller “Mentalitza’t”, prevenció de l'ansietat en estudiants
LOCATION:c. Sant Jaume, 225-229 08370 Calella
METHOD:PUBLISH
X-WR-CALNAME:calella@calella.cat
X-WR-TIMEZONE:Europe/Madrid
DESCRIPTION:Part teòrica del treball de recerca de Janna Rey Rosales i Elia Casanovas Boada.

URI:https://www.calella.cat/actualitat/agenda/taller-mentalitzat-prevencio-de-lansietat-en-estudiants.html
CLASS:PUBLIC
END:VEVENT
END:VCALENDAR
