BEGIN:VCALENDAR
VERSION:2.0
CALSCALE:GREGORIAN
PRODID:-//Diputació de Barcelona//DibaCMS//EN
BEGIN:VEVENT
UID:5179
DTSTAMP:20260424T190447
DTSTART:20230109T093000
DTEND:20230109T110000
SUMMARY:Taitxí
LOCATION:Parc Dalmau 08370 Calella
METHOD:PUBLISH
X-WR-CALNAME:calella@calella.cat
X-WR-TIMEZONE:Europe/Madrid
DESCRIPTION:Organitza: Associació Calella Marxa.  Per a més informació al 655 81 20 07.

URI:https://www.calella.cat/actualitat/agenda/5179-taitxi.html
CLASS:PUBLIC
END:VEVENT
END:VCALENDAR
