BEGIN:VCALENDAR
VERSION:2.0
CALSCALE:GREGORIAN
PRODID:-//Diputació de Barcelona//DibaCMS//EN
BEGIN:VEVENT
UID:5165
DTSTAMP:20260425T014633
DTSTART:20221217T000000
DTEND:20230129T000000
SUMMARY:Exposició temporal del 9è Concurs de Pintura Humet Saula 2022
LOCATION:Plaça de l'Ajuntament, 1-3 08370 Calella
METHOD:PUBLISH
X-WR-CALNAME:calella@calella.cat
X-WR-TIMEZONE:Europe/Madrid
DESCRIPTION:No et perdis l’exposició temporal del “Novè Concurs de Pintura Humet Saula 2022”.

URI:https://www.calella.cat/actualitat/agenda/5165-exposicio-temporal-del-9e-concurs-de-pintura-humet-saula-2022.html
CLASS:PUBLIC
END:VEVENT
END:VCALENDAR
